BEGIN:VCALENDAR
VERSION:2.0
CALSCALE:GREGORIAN
METHOD:REQUEST
PRODID:Erie Commodores FC
BEGIN:VEVENT
UID: 1708569e9da071ea19@eriecommodoresfootballclub@gmail.com
SUMMARY:Away Game v. Rochester NY
DTSTAMP:20260423T043623
DTSTART:20260620T160000
DTEND:20260620T160000
LOCATION:460 Oak Street Rochester, NY 14608
DESCRIPTION:[ NPSL Men&#039;s ] Away Game v. Rochester NY
STATUS:CONFIRMED
SEQUENCE:3
END:VEVENT
END:VCALENDAR